BEGIN:VCALENDAR
VERSION:2.0
PRODID:-//MoritzBastei e.V. - ECPv6.15.14//NONSGML v1.0//EN
CALSCALE:GREGORIAN
METHOD:PUBLISH
X-ORIGINAL-URL:https://www.moritzbastei-ev.org/wordpress
X-WR-CALDESC:Veranstaltungen für MoritzBastei e.V.
REFRESH-INTERVAL;VALUE=DURATION:PT1H
X-Robots-Tag:noindex
X-PUBLISHED-TTL:PT1H
BEGIN:VTIMEZONE
TZID:Europe/Berlin
BEGIN:DAYLIGHT
TZOFFSETFROM:+0100
TZOFFSETTO:+0200
TZNAME:CEST
DTSTART:20250330T010000
END:DAYLIGHT
BEGIN:STANDARD
TZOFFSETFROM:+0200
TZOFFSETTO:+0100
TZNAME:CET
DTSTART:20251026T010000
END:STANDARD
BEGIN:DAYLIGHT
TZOFFSETFROM:+0100
TZOFFSETTO:+0200
TZNAME:CEST
DTSTART:20260329T010000
END:DAYLIGHT
BEGIN:STANDARD
TZOFFSETFROM:+0200
TZOFFSETTO:+0100
TZNAME:CET
DTSTART:20261025T010000
END:STANDARD
BEGIN:DAYLIGHT
TZOFFSETFROM:+0100
TZOFFSETTO:+0200
TZNAME:CEST
DTSTART:20270328T010000
END:DAYLIGHT
BEGIN:STANDARD
TZOFFSETFROM:+0200
TZOFFSETTO:+0100
TZNAME:CET
DTSTART:20271031T010000
END:STANDARD
END:VTIMEZONE
BEGIN:VEVENT
DTSTART;TZID=Europe/Berlin:20260620T080000
DTEND;TZID=Europe/Berlin:20260620T080000
DTSTAMP:20260425T234441
CREATED:20250803T152155Z
LAST-MODIFIED:20260425T152206Z
UID:7060-1781942400-1781942400@www.moritzbastei-ev.org
SUMMARY:39. Moritzbastei e.V. Fahrradrallye
DESCRIPTION:Am 20. Juni 2026 begehen/ befahren wir & ihr die XXXIX. Moritzbastei Fahrradrallye des Moritzbastei e.V. und der Moritzbastei! \n! Veranstaltungsbeginn in der MB mit Einweisung und Startnummernverlosung ist\n> für Startgruppe 1 um 8:00 Uhr\, Start ab 9:00 Uhr\, und\n> für Startgruppe 2 um 9:30 Uhr\, Start ab 10:30 Uhr. \n! Ticketpreis pro Team: 65€ zzgl. Gebühren\nVVK: Der Start des VVK ist am Donnerstag\, 9. April ab 16.00 Uhr (am Ticketschalter der Moritzbastei und online).\nLink zum Online-VVK: https://www.tixforgigs.com/de-DE/Event/73419/39-moritzbastei-fahrradrallye-moritzbastei-leipzig \n! Achtung: Die Nummern auf den Tickets entsprechen nicht eurer Startnummer\, diese werden nach der Einweisung verlost (s.o.)! \nIm Ticket ist das fulminante Komplettpaket Fahrradrallye 2026 enthalten: Es beinhaltet die Stunden voller Freude und tollen Menschen von der Einweisung am Morgen bis zur Party am Abend! \n! Programm: Es wird eine etwa 40 km lange Rundfahrt in und um Leipzig geben\, gespickt mit ca. einem Dutzend Stationen für Körper\, Geist & Herz inklusive mindestens einer Wasseraktion (Badesachen nicht vergessen!) und der Mittagsstation. Am Abend gibt es Buffet & Freigetränke\, die Vorführung des Vorjahresfilmes und des frisch abgedrehten sowie die traditionelle Preisverleihung\, zu der keines der Teams leer ausgeht! \n! Wir danken an dieser Stelle herzlichst allen ehrenamtlich Helfenden (v.a. unserem monatelang aktivem Orga-Team)\, dem Team der MB sowie Partnern und Sponsoren\, die alle die Rallye mit Tatkraft und/oder (Sach-)Spenden überhaupt erst möglich machen:\n* Autohaus Burkard\n* Bandcommunity Leipzig\n* Bautrocknung Schmittgall\n* Bikedepartment Ost\n* Feinkost Meißner\n* Fischer Druck\n* LEIPZIGER Gruppe\n* tapir Store\n* Ur-Krostitzer und Coca Cola\n* Zoo Leipzig \n! Dokumentation: Es werden Foto- und Filmaufnahmen für Medien und die Öffentlichkeitsarbeit gemacht. Mit der Teilnahme stimmt ihr der Verwendung zu. \nIhr habt noch Fragen oder Wünsche?\nIhr wollt mitorganisieren statt mitradeln?\nDann schreibt uns eine PN! \n* Änderungen vorbehalten!
URL:https://www.moritzbastei-ev.org/wordpress/event/39-moritzbastei-e-v-fahrradrallye/
LOCATION:Moritzbastei
CATEGORIES:Moritzbastei e.V. Öffentlich
ATTACH;FMTTYPE=image/jpeg:https://www.moritzbastei-ev.org/wordpress/wp-content/uploads/2025/08/7060_image_527279764_1080242167545014_5175537032804040469_n.jpg
END:VEVENT
END:VCALENDAR