BEGIN:VCALENDAR
VERSION:2.0
PRODID:-//MoritzBastei e.V. - ECPv6.15.14//NONSGML v1.0//EN
CALSCALE:GREGORIAN
METHOD:PUBLISH
X-WR-CALNAME:MoritzBastei e.V.
X-ORIGINAL-URL:https://www.moritzbastei-ev.org/wordpress
X-WR-CALDESC:Veranstaltungen für MoritzBastei e.V.
REFRESH-INTERVAL;VALUE=DURATION:PT1H
X-Robots-Tag:noindex
X-PUBLISHED-TTL:PT1H
BEGIN:VTIMEZONE
TZID:Europe/Berlin
BEGIN:DAYLIGHT
TZOFFSETFROM:+0100
TZOFFSETTO:+0200
TZNAME:CEST
DTSTART:20240331T010000
END:DAYLIGHT
BEGIN:STANDARD
TZOFFSETFROM:+0200
TZOFFSETTO:+0100
TZNAME:CET
DTSTART:20241027T010000
END:STANDARD
BEGIN:DAYLIGHT
TZOFFSETFROM:+0100
TZOFFSETTO:+0200
TZNAME:CEST
DTSTART:20250330T010000
END:DAYLIGHT
BEGIN:STANDARD
TZOFFSETFROM:+0200
TZOFFSETTO:+0100
TZNAME:CET
DTSTART:20251026T010000
END:STANDARD
BEGIN:DAYLIGHT
TZOFFSETFROM:+0100
TZOFFSETTO:+0200
TZNAME:CEST
DTSTART:20260329T010000
END:DAYLIGHT
BEGIN:STANDARD
TZOFFSETFROM:+0200
TZOFFSETTO:+0100
TZNAME:CET
DTSTART:20261025T010000
END:STANDARD
END:VTIMEZONE
BEGIN:VEVENT
DTSTART;TZID=Europe/Berlin:20251204T200000
DTEND;TZID=Europe/Berlin:20251204T200000
DTSTAMP:20260426T015646
CREATED:20251126T152157Z
LAST-MODIFIED:20251204T152257Z
UID:7211-1764878400-1764878400@www.moritzbastei-ev.org
SUMMARY:MoritzKino: KRAMPUS (2015)
DESCRIPTION:„Für Max (Emjay Anthony) sind die Weihnachtsfeiertage wenig erfreulich: Die gesamte Verwandtschaft entert das Haus\, alle streiten sich\, und zu essen gibt es den unsäglichen Weihnachtsbraten seiner Mutter (Toni Collette). Wie das Fest der Liebe fühlen sich diese unangenehmen Stunden für Max nicht an. Doch dann fällt der Strom aus und in der Dunkelheit lauert noch etwas viel Schrecklicheres als die lieben Verwandten: der Krampus. Er wird angelockt durch die mangelnde Festtagsstimmung in Max‘ Elternhaus und kommt nun\, um alle Ungläubigen zu bestrafen. Im Schlepptau hat er die Horrorversionen sonst so friedlicher Weihnachtsikonen. Max und seine Familie müssen nun zusammenhalten\, um die grausige Sagengestalt zu vertreiben\, bevor die Monster-Variante des Weihnachtsmanns jemanden fressen kann…“ https://www.filmstarts.de/kritiken/228863.html \nFSK ab 16 freigegeben \nwikipedia: Der Film basiert lose auf der Legende des Krampus\, die ihren Ursprung im deutschsprachigen Alpenraum hat […] Der Krampus\, auch Kramperl oder Bartl\, ist im Adventsbrauchtum eine Schreckgestalt in Begleitung des heiligen Nikolaus. (…) Während der Nikolaus die braven Kinder beschenkt\, werden die unartigen vom Krampus bestraft. \nEinlass 19.00 Uhr\, Start 20.00 Uhr\nEintritt wie immer frei und Knabberei
URL:https://www.moritzbastei-ev.org/wordpress/event/moritzkino-krampus-2015/
LOCATION:Moritzbastei
CATEGORIES:Moritzbastei e.V. Öffentlich
ATTACH;FMTTYPE=image/jpeg:https://www.moritzbastei-ev.org/wordpress/wp-content/uploads/2025/11/7211_image_589259774_1172464558322774_7567040425568410947_n.jpg
END:VEVENT
BEGIN:VEVENT
DTSTART;TZID=Europe/Berlin:20251221T140000
DTEND;TZID=Europe/Berlin:20251221T140000
DTSTAMP:20260426T015646
CREATED:20251115T152155Z
LAST-MODIFIED:20251221T152225Z
UID:7192-1766325600-1766325600@www.moritzbastei-ev.org
SUMMARY:Das Moritzbastei e.V Kinderweihnachtsmärchen 2025
DESCRIPTION:Traditionell jedes Jahr am Sonntag vor Heiligabend lädt der Moritzbastei e.V.\, die Moritzbastei und Freunde alle Kinder und Junggebliebene zur märchenhaften Kinderweihnacht ein! \nIn diesem Jahr spielen wir mit euch zusammen einmal quer durch die märchenhafte Moritzbastei „Der gestiefelte Kater“ und natürlich wie jedes Jahr mit Basteln\, Rätseln\, Mitmachen und Klamauk! Lasst euch überraschen! \nNach dem Weihnachtsmärchenzauber kommt der Weihnachtsmann vorbei und hört sich Eure Darbietungen an.  \nEintritt frei.  \nFreut euch am4. Advent\, dem 21. Dezember 2025\, auf einen Nachmittag mit uns und den Abenteuern eines cleveren Katers!  \nStart: Moritzbastei\, Kurt-Masur-Platz 1\, 04109 Leipzig\nEinlass: 14:00 Uhr/ Beginn: ca.14.30 Uhr
URL:https://www.moritzbastei-ev.org/wordpress/event/das-moritzbastei-e-v-kinderweihnachtsmaerchen-2025/
LOCATION:Moritzbastei
CATEGORIES:Moritzbastei e.V. Öffentlich
ATTACH;FMTTYPE=image/jpeg:https://www.moritzbastei-ev.org/wordpress/wp-content/uploads/2025/11/7192_image_589260746_1171979255037971_7327564057298668058_n.jpg
END:VEVENT
END:VCALENDAR